BEGIN:VCALENDAR
VERSION:2.0
PRODID:-//Rexs - ECPv6.15.20//NONSGML v1.0//EN
CALSCALE:GREGORIAN
METHOD:PUBLISH
X-WR-CALNAME:Rexs
X-ORIGINAL-URL:https://rexsftw.com
X-WR-CALDESC:Events for Rexs
REFRESH-INTERVAL;VALUE=DURATION:PT1H
X-Robots-Tag:noindex
X-PUBLISHED-TTL:PT1H
BEGIN:VTIMEZONE
TZID:America/Chicago
BEGIN:DAYLIGHT
TZOFFSETFROM:-0600
TZOFFSETTO:-0500
TZNAME:CDT
DTSTART:20250309T080000
END:DAYLIGHT
BEGIN:STANDARD
TZOFFSETFROM:-0500
TZOFFSETTO:-0600
TZNAME:CST
DTSTART:20251102T070000
END:STANDARD
BEGIN:DAYLIGHT
TZOFFSETFROM:-0600
TZOFFSETTO:-0500
TZNAME:CDT
DTSTART:20260308T080000
END:DAYLIGHT
BEGIN:STANDARD
TZOFFSETFROM:-0500
TZOFFSETTO:-0600
TZNAME:CST
DTSTART:20261101T070000
END:STANDARD
BEGIN:DAYLIGHT
TZOFFSETFROM:-0600
TZOFFSETTO:-0500
TZNAME:CDT
DTSTART:20270314T080000
END:DAYLIGHT
BEGIN:STANDARD
TZOFFSETFROM:-0500
TZOFFSETTO:-0600
TZNAME:CST
DTSTART:20271107T070000
END:STANDARD
END:VTIMEZONE
BEGIN:VEVENT
DTSTART;TZID=America/Chicago:20260217T190000
DTEND;TZID=America/Chicago:20260217T220000
DTSTAMP:20260420T022858
CREATED:20260203T220232Z
LAST-MODIFIED:20260203T220232Z
UID:3115-1771354800-1771365600@rexsftw.com
SUMMARY:Live Music with Duncan Wallace
DESCRIPTION:
URL:https://rexsftw.com/event/live-music-with-duncan-wallace-4/
LOCATION:Rex’s Bar & Grill\, 1501 S. University Dr\, Fort Worth\, TX\, 76107\, United States
END:VEVENT
BEGIN:VEVENT
DTSTART;TZID=America/Chicago:20260224T190000
DTEND;TZID=America/Chicago:20260224T220000
DTSTAMP:20260420T022858
CREATED:20260203T220322Z
LAST-MODIFIED:20260203T220322Z
UID:3117-1771959600-1771970400@rexsftw.com
SUMMARY:Live Music with Duncan Wallace
DESCRIPTION:
URL:https://rexsftw.com/event/live-music-with-duncan-wallace-5/
LOCATION:Rex’s Bar & Grill\, 1501 S. University Dr\, Fort Worth\, TX\, 76107\, United States
END:VEVENT
BEGIN:VEVENT
DTSTART;TZID=America/Chicago:20260303T190000
DTEND;TZID=America/Chicago:20260303T220000
DTSTAMP:20260420T022858
CREATED:20260203T220636Z
LAST-MODIFIED:20260203T220636Z
UID:3124-1772564400-1772575200@rexsftw.com
SUMMARY:Live Music with Duncan Wallace
DESCRIPTION:
URL:https://rexsftw.com/event/live-music-with-duncan-wallace-6/
LOCATION:Rex’s Bar & Grill\, 1501 S. University Dr\, Fort Worth\, TX\, 76107\, United States
END:VEVENT
BEGIN:VEVENT
DTSTART;TZID=America/Chicago:20260310T190000
DTEND;TZID=America/Chicago:20260310T220000
DTSTAMP:20260420T022858
CREATED:20260203T220737Z
LAST-MODIFIED:20260203T220737Z
UID:3126-1773169200-1773180000@rexsftw.com
SUMMARY:Live Music with Duncan Wallace
DESCRIPTION:
URL:https://rexsftw.com/event/live-music-with-duncan-wallace-7/
LOCATION:Rex’s Bar & Grill\, 1501 S. University Dr\, Fort Worth\, TX\, 76107\, United States
END:VEVENT
BEGIN:VEVENT
DTSTART;TZID=America/Chicago:20260317T190000
DTEND;TZID=America/Chicago:20260317T220000
DTSTAMP:20260420T022858
CREATED:20260203T220852Z
LAST-MODIFIED:20260203T220852Z
UID:3130-1773774000-1773784800@rexsftw.com
SUMMARY:Live Music with Duncan Wallace
DESCRIPTION:
URL:https://rexsftw.com/event/live-music-with-duncan-wallace-8/
LOCATION:Rex’s Bar & Grill\, 1501 S. University Dr\, Fort Worth\, TX\, 76107\, United States
END:VEVENT
BEGIN:VEVENT
DTSTART;TZID=America/Chicago:20260324T190000
DTEND;TZID=America/Chicago:20260324T220000
DTSTAMP:20260420T022858
CREATED:20260203T221036Z
LAST-MODIFIED:20260203T221036Z
UID:3134-1774378800-1774389600@rexsftw.com
SUMMARY:Live Music with Duncan Wallace
DESCRIPTION:
URL:https://rexsftw.com/event/live-music-with-duncan-wallace-9/
LOCATION:Rex’s Bar & Grill\, 1501 S. University Dr\, Fort Worth\, TX\, 76107\, United States
END:VEVENT
BEGIN:VEVENT
DTSTART;TZID=America/Chicago:20260325T190000
DTEND;TZID=America/Chicago:20260325T210000
DTSTAMP:20260420T022858
CREATED:20260203T221208Z
LAST-MODIFIED:20260203T221208Z
UID:3138-1774465200-1774472400@rexsftw.com
SUMMARY:Live Music with Rachel Stacy
DESCRIPTION:
URL:https://rexsftw.com/event/live-music-with-rachel-stacy/
LOCATION:Rex’s Bar & Grill\, 1501 S. University Dr\, Fort Worth\, TX\, 76107\, United States
END:VEVENT
BEGIN:VEVENT
DTSTART;TZID=America/Chicago:20260331T190000
DTEND;TZID=America/Chicago:20260331T220000
DTSTAMP:20260420T022858
CREATED:20260203T221110Z
LAST-MODIFIED:20260203T221110Z
UID:3136-1774983600-1774994400@rexsftw.com
SUMMARY:Live Music with Duncan Wallace
DESCRIPTION:
URL:https://rexsftw.com/event/live-music-with-duncan-wallace-10/
LOCATION:Rex’s Bar & Grill\, 1501 S. University Dr\, Fort Worth\, TX\, 76107\, United States
END:VEVENT
BEGIN:VEVENT
DTSTART;TZID=America/Chicago:20260407T190000
DTEND;TZID=America/Chicago:20260407T220000
DTSTAMP:20260420T022858
CREATED:20260203T221248Z
LAST-MODIFIED:20260203T221248Z
UID:3140-1775588400-1775599200@rexsftw.com
SUMMARY:Live Music with Duncan Wallace
DESCRIPTION:
URL:https://rexsftw.com/event/live-music-with-duncan-wallace-11/
LOCATION:Rex’s Bar & Grill\, 1501 S. University Dr\, Fort Worth\, TX\, 76107\, United States
END:VEVENT
BEGIN:VEVENT
DTSTART;TZID=America/Chicago:20260408T190000
DTEND;TZID=America/Chicago:20260408T210000
DTSTAMP:20260420T022859
CREATED:20260203T221552Z
LAST-MODIFIED:20260203T221552Z
UID:3148-1775674800-1775682000@rexsftw.com
SUMMARY:Live Music with Big Mike Richardson
DESCRIPTION:
URL:https://rexsftw.com/event/live-music-with-big-mike-richardson-6/
LOCATION:Rex’s Bar & Grill\, 1501 S. University Dr\, Fort Worth\, TX\, 76107\, United States
END:VEVENT
BEGIN:VEVENT
DTSTART;TZID=America/Chicago:20260414T190000
DTEND;TZID=America/Chicago:20260414T220000
DTSTAMP:20260420T022859
CREATED:20260203T221328Z
LAST-MODIFIED:20260203T221328Z
UID:3142-1776193200-1776204000@rexsftw.com
SUMMARY:Live Music with Duncan Wallace
DESCRIPTION:
URL:https://rexsftw.com/event/live-music-with-duncan-wallace-12/
LOCATION:Rex’s Bar & Grill\, 1501 S. University Dr\, Fort Worth\, TX\, 76107\, United States
END:VEVENT
BEGIN:VEVENT
DTSTART;TZID=America/Chicago:20260415T190000
DTEND;TZID=America/Chicago:20260415T210000
DTSTAMP:20260420T022859
CREATED:20260203T221653Z
LAST-MODIFIED:20260203T221653Z
UID:3150-1776279600-1776286800@rexsftw.com
SUMMARY:Live Music with The Last Knife Fighter
DESCRIPTION:
URL:https://rexsftw.com/event/live-music-with-the-last-knife-fighter/
LOCATION:Rex’s Bar & Grill\, 1501 S. University Dr\, Fort Worth\, TX\, 76107\, United States
END:VEVENT
BEGIN:VEVENT
DTSTART;TZID=America/Chicago:20260421T190000
DTEND;TZID=America/Chicago:20260421T220000
DTSTAMP:20260420T022859
CREATED:20260203T221400Z
LAST-MODIFIED:20260203T221400Z
UID:3144-1776798000-1776808800@rexsftw.com
SUMMARY:Live Music with Duncan Wallace
DESCRIPTION:
URL:https://rexsftw.com/event/live-music-with-duncan-wallace-13/
LOCATION:Rex’s Bar & Grill\, 1501 S. University Dr\, Fort Worth\, TX\, 76107\, United States
END:VEVENT
BEGIN:VEVENT
DTSTART;TZID=America/Chicago:20260422T190000
DTEND;TZID=America/Chicago:20260422T220000
DTSTAMP:20260420T022859
CREATED:20260416T184356Z
LAST-MODIFIED:20260416T184356Z
UID:3300-1776884400-1776895200@rexsftw.com
SUMMARY:Live Music with Gary Kyle
DESCRIPTION:
URL:https://rexsftw.com/event/live-music-with-gary-kyle/
LOCATION:Rex’s Bar & Grill\, 1501 S. University Dr\, Fort Worth\, TX\, 76107\, United States
END:VEVENT
BEGIN:VEVENT
DTSTART;TZID=America/Chicago:20260428T190000
DTEND;TZID=America/Chicago:20260428T220000
DTSTAMP:20260420T022859
CREATED:20260203T221429Z
LAST-MODIFIED:20260203T221429Z
UID:3146-1777402800-1777413600@rexsftw.com
SUMMARY:Live Music with Duncan Wallace
DESCRIPTION:
URL:https://rexsftw.com/event/live-music-with-duncan-wallace-14/
LOCATION:Rex’s Bar & Grill\, 1501 S. University Dr\, Fort Worth\, TX\, 76107\, United States
END:VEVENT
BEGIN:VEVENT
DTSTART;TZID=America/Chicago:20260506T190000
DTEND;TZID=America/Chicago:20260506T210000
DTSTAMP:20260420T022859
CREATED:20260203T221806Z
LAST-MODIFIED:20260203T221806Z
UID:3152-1778094000-1778101200@rexsftw.com
SUMMARY:Live Music with Rachel Stacy
DESCRIPTION:
URL:https://rexsftw.com/event/live-music-with-rachel-stacy-2/
LOCATION:Rex’s Bar & Grill\, 1501 S. University Dr\, Fort Worth\, TX\, 76107\, United States
END:VEVENT
BEGIN:VEVENT
DTSTART;TZID=America/Chicago:20260603T190000
DTEND;TZID=America/Chicago:20260603T210000
DTSTAMP:20260420T022859
CREATED:20260203T221835Z
LAST-MODIFIED:20260203T221835Z
UID:3154-1780513200-1780520400@rexsftw.com
SUMMARY:Live Music with Rachel Stacy
DESCRIPTION:
URL:https://rexsftw.com/event/live-music-with-rachel-stacy-3/
LOCATION:Rex’s Bar & Grill\, 1501 S. University Dr\, Fort Worth\, TX\, 76107\, United States
END:VEVENT
END:VCALENDAR